BEGIN:VCALENDAR
VERSION:2.0
PRODID:-//wp-events-plugin.com//6.6.4.4//EN
TZID:Europe/Berlin
X-WR-TIMEZONE:Europe/Berlin
BEGIN:VEVENT
UID:2@altdeutschepferdetaxe.de
DTSTART;TZID=Europe/Berlin:20250518T110000
DTEND;TZID=Europe/Berlin:20250706T160000
DTSTAMP:20250505T131330Z
URL:https://altdeutschepferdetaxe.de/termine/kutschenfueherschein-a-und-fa
 hrabzeichen-fa-5-fa-4/
SUMMARY:Kutschenfüherschein A und Fahrabzeichen FA 5\, FA 4
DESCRIPTION:\n\nDu hast Spaß am Umgang mit Pferden und möchtest auch das 
 Fahren lernen? Dann ist unser Fahrlehrgang für den Kutschenführerschein 
 A und das Fahrabzeichen 5 genau das Richtige für dich! Wir bieten wieder 
 neue Lehrgänge an\, bei denen Du Schritt für Schritt die Grundlagen des 
 Kutschfahrens erlernst und dabei den sicheren Umgang mit dem Pferd vertief
 st.\n\nOb Anfänger oder Wiedereinsteiger – unsere erfahrenen Fahrlehrer
  begleiten Dich mit viel Geduld und Freude. Du lernst nicht nur das Fahren
  mit der Kutsche\, sondern auch\, wie du verantwortungsbewusst und sicher 
 mit den Pferden arbeitest.\n\nMelde Dich jetzt an und starte mit uns in ei
 n spannendes Abenteuer rund um das Fahren und den Umgang mit den Pferden. 
 Wir freuen uns auf Dich!\n\nLehrgangsgebühren:\nKutschenfüherschein A 
 – 550€\nFA 5 inkl. Kutschenführerschein A – 750€‘\nFahrabzeiche
 n FA 4 (auf Anfrage) – 550€\n\nVoraussetzung:\nPferdeführerschein Umg
 ang\nSollte dieser noch nicht vorhanden sein\, kann er innerhalb des Lehrg
 angs mit absolviert werden. Kosten hierfür betragen 160€\n\nWer ausschl
 ießlich nur den Pferdeführerschein Umgang machen möchte\, kann dies auc
 h gerne in der Zeit  mitmachen. Dieser kostet dann 220€\n\nzzgl. Prüfu
 ngsgebühr\n\n
CATEGORIES:Lehrgang
LOCATION:Altdeutsche Pferdetaxe\, Krummenseer Weg 12a\, Werneuchen\, Brande
 nburg\, 16356\, Deutschland
X-APPLE-STRUCTURED-LOCATION;VALUE=URI;X-ADDRESS=Krummenseer Weg 12a\, Werne
 uchen\, Brandenburg\, 16356\, Deutschland;X-APPLE-RADIUS=100;X-TITLE=Altde
 utsche Pferdetaxe:geo:0,0
END:VEVENT
BEGIN:VEVENT
UID:5@altdeutschepferdetaxe.de
DTSTART;TZID=Europe/Berlin:20250802T100000
DTEND;TZID=Europe/Berlin:20250803T170000
DTSTAMP:20250505T131407Z
URL:https://altdeutschepferdetaxe.de/termine/wochenend-schnupperkurs-doppe
 llonge/
SUMMARY:Wochenend-Schnupperkurs Doppellonge
DESCRIPTION:\n\nEin Schnupperkurs im Longieren mit der Doppellonge bietet e
 ine spannende Möglichkeit\, sowohl die Balance des Pferdes zu fördern al
 s auch gezielt den Muskelaufbau zu unterstützen. In diesem Kurs lernen Re
 iter und Pferd\, sich auf eine ganz besondere Art und Weise miteinander zu
  verbinden. Das Longieren mit der Doppellonge ermöglicht es\, das Pferd g
 leichmäßig auf beiden Seiten zu trainieren\, ohne dabei die natürliche 
 Bewegungsdynamik zu stören.\n\nDurch gezielte Übungen werden Muskeln auf
 gebaut\, die das Pferd stärker und geschmeidiger machen\, während gleich
 zeitig die Koordination und das Gleichgewicht verbessert werden. Für den 
 Reiter bietet dieser Kurs eine abwechslungsreiche Möglichkeit\, das Verst
 ändnis für die Bewegung des Pferdes zu vertiefen und eine feinere Kommun
 ikation zu entwickeln.\n\nDer Kurs bietet nicht nur eine neue Dimension de
 s Trainings\, sondern auch viel Freude und Abwechslung für beide – Mens
 ch und Pferd. Es ist eine tolle Gelegenheit\, die Harmonie und das Vertrau
 en zwischen den beiden zu stärken und gleichzeitig die körperliche Fitne
 ss des Pferdes zu fördern\n\n2-Tageskurs: 220€\nDie Verpflegung „aus 
 dem Rucksack“ wird empfohlen.\nKaffee/Tee wird gestellt.\n
CATEGORIES:Schnupperkurs
LOCATION:Altdeutsche Pferdetaxe\, Krummenseer Weg 12a\, Werneuchen\, Brande
 nburg\, 16356\, Deutschland
X-APPLE-STRUCTURED-LOCATION;VALUE=URI;X-ADDRESS=Krummenseer Weg 12a\, Werne
 uchen\, Brandenburg\, 16356\, Deutschland;X-APPLE-RADIUS=100;X-TITLE=Altde
 utsche Pferdetaxe:geo:0,0
END:VEVENT
BEGIN:VEVENT
UID:6@altdeutschepferdetaxe.de
DTSTART;TZID=Europe/Berlin:20250811T090000
DTEND;TZID=Europe/Berlin:20250815T150000
DTSTAMP:20250505T131424Z
URL:https://altdeutschepferdetaxe.de/termine/pferdefuehrerschein-umgang-fu
 er-kinder-und-jugendliche/
SUMMARY:Pferdeführerschein Umgang für Kinder und Jugendliche
DESCRIPTION:\n\nDer Pferdeführerschein Umgang für Kinder und Jugendliche 
 im Alter von 8 bis 18 Jahren bietet eine spannende und lehrreiche Möglich
 keit\, sich intensiv mit dem Thema Pferdehaltung und -pflege auseinanderzu
 setzen. In diesem Kurs erlernen die Teilnehmer nicht nur grundlegende Kenn
 tnisse im Umgang mit Pferden\, sondern auch wichtige Aspekte der Sicherhei
 t und Verantwortung.\n\nDer Pferdeführerschein ist ideal für alle\, die 
 mehr über die richtige Pflege\, das Füttern und das allgemeine Wohlbefin
 den von Pferden erfahren möchten. Spielerisch und praxisnah werden die Ki
 nder und Jugendlichen in die Welt der Pferde eingeführt. Sie lernen\, wie
  man Pferde richtig führt\, pflegt und versorgt – und das alles unter f
 achkundiger Anleitung. Dabei steht der respektvolle Umgang mit den Tieren 
 stets im Mittelpunkt.\n\nDieser Kurs fördert nicht nur die Fähigkeiten i
 m Umgang mit Pferden\, sondern auch wichtige soziale und persönliche Komp
 etenzen wie Teamarbeit\, Verantwortung und Geduld. Der Pferdeführerschein
  ist somit nicht nur eine wertvolle Qualifikation für junge Reiter\, sond
 ern auch eine tolle Gelegenheit\, das Vertrauen in sich selbst und das Tie
 r zu stärken.\n\nAm Ende des Kurses wird es eine Prüfung geben\, wo alle
  Ihr Wissen zeigen können und am Ende erhalten Sie nach bestandener Prüf
 ung Ihre Urkunde.\n\n&nbsp\;\n\nDie Kosten hierfür betragen 220€ zzgl. 
 Prüfungsgebühren\n\n
CATEGORIES:Lehrgang
LOCATION:Altdeutsche Pferdetaxe\, Krummenseer Weg 12a\, Werneuchen\, Brande
 nburg\, 16356\, Deutschland
X-APPLE-STRUCTURED-LOCATION;VALUE=URI;X-ADDRESS=Krummenseer Weg 12a\, Werne
 uchen\, Brandenburg\, 16356\, Deutschland;X-APPLE-RADIUS=100;X-TITLE=Altde
 utsche Pferdetaxe:geo:0,0
END:VEVENT
BEGIN:VEVENT
UID:4@altdeutschepferdetaxe.de
DTSTART;TZID=Europe/Berlin:20250816T090000
DTEND;TZID=Europe/Berlin:20250817T170000
DTSTAMP:20250717T102748Z
URL:https://altdeutschepferdetaxe.de/termine/wochenend-schnupperkurs-fahre
 n/
SUMMARY:Wochenend-Schnupperkurs Fahren
DESCRIPTION:\n\nErlebe die Faszination des Kutschfahrens – beim Schnupper
 kurs Kutsche fahren! Dieser Kurs ist der perfekte Einstieg für alle\, die
  schon immer einmal das Steuer einer Kutsche in die Hand nehmen wollten. E
 gal\, ob Du noch keine Vorkenntnisse hast oder bereits Erfahrung im Umgang
  mit Pferden\, hier kannst Du erste Schritte in die Welt des Kutschfahrens
  machen.\n\nUnter professioneller Anleitung lernst du die Grundlagen des s
 icheren Fahrens mit der Kutsche. Du wirst mit den verschiedenen Kutscharte
 n und den wichtigsten Handgriffen vertraut gemacht\, während Du die Natur
  aus einer ganz neuen Perspektive entdeckst. Der Kurs bietet Dir die Geleg
 enheit\, das Fahren mit den Pferden zu erleben\, gleichzeitig aber auch di
 e Verantwortung und die Kommunikation mit den Tieren zu erlernen.\n\nFür 
 alle\, die mehr wollen\, ist der Schnupperkurs der ideale Einstieg in den 
 Kutschenführerschein A. Hier bekommst du nicht nur einen ersten Eindruck 
 vom Kutschfahren\, sondern kannst auch gleich die ersten Schritte in Richt
 ung offizieller Fahrpraxis machen – ein spannender Weg\, der dir viele n
 eue Türen öffnen wird.\n\nOb Du Kutschenfahren als Hobby weiterverfolgen
  möchtest oder den Kutschenführerschein A anstrebst – dieser Kurs ist 
 der perfekte Start für dein Abenteuer auf der Kutsche!\n\n2-Tageskurs: 22
 0€\nDie Verpflegung „aus dem Rucksack“ wird empfohlen.\nKaffee/Tee w
 ird gestellt.\n\n\n\n\n\n\n\n
CATEGORIES:Schnupperkurs
LOCATION:Altdeutsche Pferdetaxe\, Krummenseer Weg 12a\, Werneuchen\, Brande
 nburg\, 16356\, Deutschland
X-APPLE-STRUCTURED-LOCATION;VALUE=URI;X-ADDRESS=Krummenseer Weg 12a\, Werne
 uchen\, Brandenburg\, 16356\, Deutschland;X-APPLE-RADIUS=100;X-TITLE=Altde
 utsche Pferdetaxe:geo:0,0
END:VEVENT
BEGIN:VEVENT
UID:7@altdeutschepferdetaxe.de
DTSTART;TZID=Europe/Berlin:20250830T100000
DTEND;TZID=Europe/Berlin:20250831T170000
DTSTAMP:20250717T102901Z
URL:https://altdeutschepferdetaxe.de/termine/wochenend-schnupperkurs-boden
 arbeit/
SUMMARY:Wochenend-Schnupperkurs Bodenarbeit
DESCRIPTION:\nMöchtest Du eine tiefere Verbindung zu deinem Pferd aufbauen
 ? In unserem Schnupperkurs für Bodenarbeit lernst Du\, wie Du mit feinen\
 , klaren Hilfen und bewusster Körpersprache eine vertrauensvolle Kommunik
 ation mit deinem Pferd entwickelst – ganz ohne Sattel.\nDieser Kurs rich
 tet sich an alle\, die…\n– ihr Pferd besser verstehen und lesen lernen
  möchten– ihre Körpersprache gezielt einsetzen wollen\n– eine ehrlic
 he Partnerschaft aufbauen möchten – mit gegenseitigem Respekt\nInhalte 
 des Kurses:\n\n\n 	\nGrundlagen der Bodenarbeit: Präsenz\, Nähe und Dist
 anz\n\n 	\nKörpersprache und feine Signale richtig einsetzen\n\n 	\nVertr
 auen fördern\, Missverständnisse vermeiden\n\n 	\nErste Übungen für kl
 are Kommunikation und Zusammenarbeit\n\n\nOb Anfänger oder Wiedereinsteig
 er – Du brauchst keine Vorkenntnisse. Der Kurs ist auch ideal für Pferd
 efreunde\, die sich erstmal vom Boden aus ausprobieren möchten.\nEntdecke
  die Magie der leisen Töne in der Pferdekommunikation.Melde Dich jetzt an
  – dein Pferd wird es Dir danken!\n2-Tageskurs: 220€\nDie Verpflegung 
 „aus dem Rucksack“ wird empfohlen.\nKaffee/Tee wird gestellt.\n
CATEGORIES:Schnupperkurs
LOCATION:Altdeutsche Pferdetaxe\, Krummenseer Weg 12a\, Werneuchen\, Brande
 nburg\, 16356\, Deutschland
X-APPLE-STRUCTURED-LOCATION;VALUE=URI;X-ADDRESS=Krummenseer Weg 12a\, Werne
 uchen\, Brandenburg\, 16356\, Deutschland;X-APPLE-RADIUS=100;X-TITLE=Altde
 utsche Pferdetaxe:geo:0,0
END:VEVENT
BEGIN:VEVENT
UID:8@altdeutschepferdetaxe.de
DTSTART;TZID=Europe/Berlin:20250913T100000
DTEND;TZID=Europe/Berlin:20251026T170000
DTSTAMP:20250505T131459Z
URL:https://altdeutschepferdetaxe.de/termine/kutschenfuehrerschein-a-und-f
 ahrabzeichen-fa-5-fa-4/
SUMMARY:Kutschenführerschein A und Fahrabzeichen FA 5\, FA 4
DESCRIPTION:\n\n\nDu hast Spaß am Umgang mit Pferden und möchtest auch da
 s Fahren lernen? Dann ist unser Fahrlehrgang für den Kutschenführerschei
 n A und das Fahrabzeichen 5 genau das Richtige für dich! Ab Mai bieten wi
 r neue Lehrgänge an\, bei denen Du Schritt für Schritt die Grundlagen de
 s Kutschfahrens erlernst und dabei den sicheren Umgang mit dem Pferd verti
 efst.\n\nOb Anfänger oder Wiedereinsteiger – unsere erfahrenen Fahrlehr
 er begleiten Dich mit viel Geduld und Freude. Du lernst nicht nur das Fahr
 en mit der Kutsche\, sondern auch\, wie du verantwortungsbewusst und siche
 r mit den Pferden arbeitest.\n\nMelde Dich jetzt an und starte mit uns in 
 ein spannendes Abenteuer rund um das Fahren und den Umgang mit den Pferden
 . Wir freuen uns auf Dich!\n\nLehrgangsgebühren:\nKutschenfüherschein A 
 – 550€\nFA 5 inkl. Kutschenführerschein A – 750€\nFahrabzeichen F
 A 4 (auf Anfrage) – 550€\n\nVoraussetzung:\nPferdeführerschein Umgang
 \nSollte dieser noch nicht vorhanden sein\, kann er innerhalb des Lehrgang
 s mit absolviert werden. Kosten hierfür betragen 160€\n\nWer ausschlie
 ßlich nur den Pferdeführerschein Umgang machen möchte\, kann dies auch 
 gerne in der Zeit  mitmachen. Dieser kostet dann 220€\n\nzzgl. Prüfung
 sgebühr\n\n\n
CATEGORIES:Lehrgang
LOCATION:Altdeutsche Pferdetaxe\, Krummenseer Weg 12a\, Werneuchen\, Brande
 nburg\, 16356\, Deutschland
X-APPLE-STRUCTURED-LOCATION;VALUE=URI;X-ADDRESS=Krummenseer Weg 12a\, Werne
 uchen\, Brandenburg\, 16356\, Deutschland;X-APPLE-RADIUS=100;X-TITLE=Altde
 utsche Pferdetaxe:geo:0,0
END:VEVENT
BEGIN:VEVENT
UID:9@altdeutschepferdetaxe.de
DTSTART;TZID=Europe/Berlin:20251027T090000
DTEND;TZID=Europe/Berlin:20251101T170000
DTSTAMP:20250707T135135Z
URL:https://altdeutschepferdetaxe.de/termine/reitabzeichen-ra-5/
SUMMARY:Reitabzeichen RA 5
DESCRIPTION:\n\nDer Reitabzeichen Lehrgang RA5 bietet Reitern die ideale M
 öglichkeit\, ihre Fähigkeiten zu vertiefen und sich auf die Prüfung fü
 r das Reitabzeichen der Klasse 5 vorzubereiten. Dieser Kurs richtet sich a
 n alle\, die bereits Grundkenntnisse im Reiten haben und ihre Fertigkeiten
  auf ein neues Niveau heben möchten.\n\nIn diesem intensiven Lehrgang wer
 den alle wichtigen Themen rund ums Reiten behandelt: vom sicheren Umgang m
 it dem Pferd und der korrekten Reittechnik bis hin zu praktischen Übungen
  in verschiedenen Disziplinen wie Dressur\, Springen und Gelände. Unter A
 nleitung erfahrener Reitlehrer*innen wirst du Schritt für Schritt an die 
 Anforderungen der Prüfung herangeführt.\n\nDer Lehrgang ist nicht nur ei
 ne großartige Gelegenheit\, dein Können zu verbessern\, sondern auch ein
 e spannende Herausforderung\, bei der du deine Fortschritte messen und dic
 h weiterentwickeln kannst. Am Ende des Lehrgangs steht die Prüfung\, bei 
 der du dein Wissen und deine Fähigkeiten unter Beweis stellen kannst – 
 und bei erfolgreichem Bestehen das begehrte Reitabzeichen RA5 erhältst!\n
 \nEgal\, ob Du deine Reitfähigkeiten ausbauen oder einfach nur eine neue 
 Herausforderung suchen möchtest – dieser Lehrgang bietet dir die perfek
 te Möglichkeit\, deine Ziele zu erreichen und stolz ein neues Reitabzeich
 en zu tragen.\n\nVoraussetzung:\nPferdeführerschein Umgang oder die Reita
 bzeichen 7 und 6.\nSollte der Pferdeführerschein Umgang noch nicht vorhan
 den sein\, kann dieser innerhalb des Lehrgangs mit absolviert werden. Die 
 Kosten betragen hierfür 160€.\n\nRA5 – 550€\n\nzzgl. Prüfungsgebü
 hren\n\n
CATEGORIES:Lehrgang
LOCATION:Altdeutsche Pferdetaxe\, Krummenseer Weg 12a\, Werneuchen\, Brande
 nburg\, 16356\, Deutschland
X-APPLE-STRUCTURED-LOCATION;VALUE=URI;X-ADDRESS=Krummenseer Weg 12a\, Werne
 uchen\, Brandenburg\, 16356\, Deutschland;X-APPLE-RADIUS=100;X-TITLE=Altde
 utsche Pferdetaxe:geo:0,0
END:VEVENT
BEGIN:VEVENT
UID:3@altdeutschepferdetaxe.de
DTSTART;TZID=Europe/Berlin:20260209T110000
DTEND;TZID=Europe/Berlin:20260215T160000
DTSTAMP:20251115T092753Z
URL:https://altdeutschepferdetaxe.de/termine/longierabzeichen-la-5-la-4-un
 d-la-3-lehrgang/
SUMMARY:Longierabzeichen LA 5\, LA 4 und LA 3 Lehrgang
DESCRIPTION:Die Longierabzeichen Lehrgänge LA 5\, LA 4 und LA 3 bieten dir
  eine hervorragende Möglichkeit\, deine Fähigkeiten im Longieren systema
 tisch zu erweitern und zu perfektionieren. Longieren ist nicht nur eine ef
 fektive Methode zur Pferdeausbildung\, sondern auch eine wertvolle Ergänz
 ung für jeden Reiter\, der die Feinabstimmung und das Verständnis für d
 as Pferd auf eine neue Ebene heben möchte.\n\nIm LA 5 Lehrgang wirst Du i
 n die grundlegenden Techniken des Longierens eingeführt. Du lernst\, wie 
 man das Pferd sicher und effektiv an der Longe führt\, die Kommunikation 
 mit dem Pferd zu verbessern und eine solide Basis für die weitere Ausbild
 ung zu schaffen. Dieser Kurs ist ideal für Reiter\, die ihre ersten Schri
 tte im Longieren machen möchten oder ihre Grundkenntnisse vertiefen wolle
 n.\n\nIm LA 4 Lehrgang geht es dann einen Schritt weiter: Du beschäftigst
  dich mit fortgeschrittenen Longiermethoden\, wie dem Longieren in verschi
 edenen Gangarten\, der Verwendung von Hilfsmitteln und der gezielten Förd
 erung der Bewegungsqualität des Pferdes. Du wirst lernen\, wie du dein Pf
 erd gezielt ausbalancierst und seine Muskulatur stärkst – eine ideale V
 orbereitung für eine erfolgreiche Reitausbildung.\n\nDer LA 3 Lehrgang ri
 chtet sich an fortgeschrittene Longierer\, die ihre Technik weiter verfein
 ern und komplexere Aufgaben meistern möchten. Hier geht es um die langfri
 stige Förderung von Pferd und Reiter durch gezielte Longierarbeit\, wie m
 it der Doppellonge\, die auch auf spezifische Bedürfnisse und Ausbildungs
 ziele abgestimmt werden kann. Du wirst deine Fähigkeiten in der Pferdeaus
 bildung intensivieren und auf ein professionelles Niveau bringen.\n\nJeder
  dieser Lehrgänge bereitet Dich optimal auf die entsprechenden Prüfungen
  für das Longierabzeichen LA 5\, LA 4 und LA 3 vor. Mit dem erfolgreichen
  Abschluss dieser Prüfungen kannst du deine Fachkompetenz im Bereich Long
 ieren unter Beweis stellen und wertvolle Qualifikationen im Pferdesport er
 werben.\n\nOb Du gerade erst mit dem Longieren beginnst oder deine Fähigk
 eiten bis zur Profistufe ausbauen möchtest – diese Lehrgänge bieten di
 r die perfekte Chance\, dein Wissen zu vertiefen und deine praktischen Fer
 tigkeiten mit Pferden weiterzuentwickeln.\n\nVoraussetzung LA 5:\nPferdef
 ührerschein Umgang\nSollte dieser noch nicht vorhanden sein\, kann er inn
 erhalb des Lehrgangs mit absolviert werden. Kosten hierfür betragen 160
 €\n\nLA 5 – 250€\nLA 4 – 250€\nLA 3 – 290€\n\nzzgl. Prüfung
 sgebühren
CATEGORIES:Lehrgang
LOCATION:Altdeutsche Pferdetaxe\, Krummenseer Weg 12a\, Werneuchen\, Brande
 nburg\, 16356\, Deutschland
X-APPLE-STRUCTURED-LOCATION;VALUE=URI;X-ADDRESS=Krummenseer Weg 12a\, Werne
 uchen\, Brandenburg\, 16356\, Deutschland;X-APPLE-RADIUS=100;X-TITLE=Altde
 utsche Pferdetaxe:geo:0,0
END:VEVENT
BEGIN:VEVENT
UID:1@altdeutschepferdetaxe.de
DTSTART;TZID=Europe/Berlin:20260301T093000
DTEND;TZID=Europe/Berlin:20260301T160000
DTSTAMP:20251114T135030Z
URL:https://altdeutschepferdetaxe.de/termine/1-seminar-fuer-trainer-fahrer
 -reiter-und-pferdeliebhaber/
SUMMARY:1. Seminar für Trainer\, Fahrer\, Reiter und Pferdeliebhaber
DESCRIPTION:\n\nIn diesem Seminar beschäftigen wir uns mit der effektiven\
 , aber schonenden Hilfengebung durch Stimme\, Hilfszügel\, Zügel\, Leine
 nhilfen\, Gerten und Peitschen.\nDie harmonische Zusammenarbeit zum Wohlbe
 finden des Pferdes/ Ponys steht im Vordergrund.\n\nUnser Ziel ist es\, den
  Teilnehmern zu vermitteln schonend auf das Pferd/ Pony einzuwirken\, aber
  präzises Gefühl der Führung zu geben. So wird das Arbeiten mit dem Pfe
 rd zu einer wahren Partnerschaft\, die von Vertrauen und gegenseitigem Res
 pekt geprägt ist.\n\nLeitung:\nKlaus Winkelmann\n(Trainer A Fahren)\n\nRe
 ferent:\nKlaus-Dieter Gärtner\n(Trainer A\, Richter M Fahren)\n\nEs werde
 n 7 LE im Profil 3 für Trainer anerkannt\n\nSeminarplan:\n\n\n\n9:30 Uhr 
 – 11:30 Uhr  – Theorie\nrespektvoller Umgang mit dem Pferd/Pony\nHilf
 engebung:\nEinwirkung und Auswirkung\nWo sind die Grenzen\n\n\n\n11.30 Uhr
  – 12:30 Uhr – Theorie\nEinsatzmöglichkeiten der verschiedenen Hilfsz
 ügel\n\n\n\n12:30 Uhr – 13:30 Uhr – Mittagspause\n\n\n\n13:30 Uhr –
  16:00 Uhr – Praktisches Longieren\nEinwirkung der Hilfszügel\nEinstell
 ungen und Veränderungen\n\n\n\n16:00 Uhr – offen\nGedankenaustausch mit
  Kaffee und Kuchen\n\n\n\n&nbsp\;\n\nKosten: 55€ pro Person\n\nAnmeldesc
 hluss: 23.02.2026\n\nAnmeldungen an: berlin@altdeutschepferdetaxe.de\n\n
CATEGORIES:Seminar
LOCATION:Altdeutsche Pferdetaxe\, Krummenseer Weg 12a\, Werneuchen\, Brande
 nburg\, 16356\, Deutschland
X-APPLE-STRUCTURED-LOCATION;VALUE=URI;X-ADDRESS=Krummenseer Weg 12a\, Werne
 uchen\, Brandenburg\, 16356\, Deutschland;X-APPLE-RADIUS=100;X-TITLE=Altde
 utsche Pferdetaxe:geo:0,0
END:VEVENT
BEGIN:VEVENT
UID:12@altdeutschepferdetaxe.de
DTSTART;TZID=Europe/Berlin:20260502T090000
DTEND;TZID=Europe/Berlin:20260503T170000
DTSTAMP:20260331T115400Z
URL:https://altdeutschepferdetaxe.de/termine/5-fruehjahrsfahrt-in-zuehlsdo
 rf-und-werneuchen/
SUMMARY:5. Frühjahrsfahrt in Zühlsdorf und Werneuchen
DESCRIPTION:Auch in diesem Jahr laden wir wieder herzlich zur 5. Frühjahrs
 fahrt ein.\nFreunde des Fahr- und Reitsports treffen sich zu einer gemeins
 amen Ausfahrt durch die schöne Landschaft rund um Zühlsdorf und Werneuch
 en.\n\nAm Samstag den 02.05.2026 starten wir unsere Ausfahrt in Zühlsdorf
  (Verpflegung 35€ p. P.)\n\nAm Sonntag den 03.05.2026 findet die zweite 
 Frühjahrsfahrt in Werneuchen statt (Verpflegung 25€ p.P.)\n\nTeilnehmen
  können Kutschfahrer\, Reiter sowie Mitfahrer oder Beifahrer\, die gemein
 sam einen entspannten Tag mit Pferden in der Natur verbringen möchten. Di
 e Strecke führt durch Wälder und Felder und bietet eine schöne Gelegenh
 eit für Austausch und gemeinsame Erlebnisse unter Pferdefreunden. Im Ansc
 hluss können die Gedanken und Erlebnisse beim gemeinsamen Zusammensitzen 
 und Grillen ausgetauscht werden.\n\nWICHTIG!\nTeilnahme nur mit Pferden di
 e ausreichenden Versicherungsschutz und eine aktuelle Influenza Impfung ha
 ben.\n\nMeldet euch gern per Email unter berlin@altdeutschepferdetaxe.de a
 n\, Wir freuen uns auf euch!\n\n&nbsp\;
CATEGORIES:Ausfahrt
END:VEVENT
BEGIN:VEVENT
UID:11@altdeutschepferdetaxe.de
DTSTART;TZID=Europe/Berlin:20260515T090000
DTEND;TZID=Europe/Berlin:20260517T170000
DTSTAMP:20260227T191303Z
URL:https://altdeutschepferdetaxe.de/termine/wochenendkurs-fahren-vom-bode
 n/
SUMMARY:Wochenendkurs "Fahren vom Boden"
DESCRIPTION:Mit eigenem Pferd – Leihpferd möglich\n\nIn diesem intensive
 n Wochenendkurs erarbeiten wir die Grundlagen und Feinheiten des\nFahrens 
 vom Boden. Der Fokus liegt auf klarer Kommunikation\, korrekter Hilfengebu
 ng\nund einer harmonischen Zusammenarbeit zwischen Mensch und Pferd. Jede 
 Einheit wird\nindividuell betreut und an den Ausbildungsstand angepasst.\n
 \nKursablauf\n• Freitag ab 17:00 Uhr – Theorieeinheit\n• Samstag: 2 
 Einheiten je Teilnehmer (je 30 Minuten)\n• Sonntag: 2 Einheiten je Teiln
 ehmer (je 30 Minuten)\n• Alle Praxiseinheiten sind Einzelunterricht\n•
  Maximal 8 Teilnehmer für intensives Arbeiten\n\nInvestition\nDas Wochene
 nde kostet 200 €. Im Preis enthalten sind jeweils 2 Einheiten pro Tag im
 \nEinzelunterricht.\nEin Leihpferd kann für 20 € pro Tag dazugebucht we
 rden.\n\nAnmeldungen an berlin@altdeutschepferdetaxe.de sind bis zum 11.05
 .2026 möglich
CATEGORIES:Wochenendkurs
LOCATION:Altdeutsche Pferdetaxe\, Krummenseer Weg 12a\, Werneuchen\, Brande
 nburg\, 16356\, Deutschland
X-APPLE-STRUCTURED-LOCATION;VALUE=URI;X-ADDRESS=Krummenseer Weg 12a\, Werne
 uchen\, Brandenburg\, 16356\, Deutschland;X-APPLE-RADIUS=100;X-TITLE=Altde
 utsche Pferdetaxe:geo:0,0
END:VEVENT
BEGIN:VTIMEZONE
TZID:Europe/Berlin
X-LIC-LOCATION:Europe/Berlin
BEGIN:DAYLIGHT
DTSTART:20250330T030000
TZOFFSETFROM:+0100
TZOFFSETTO:+0200
TZNAME:CEST
END:DAYLIGHT
BEGIN:STANDARD
DTSTART:20251026T020000
TZOFFSETFROM:+0200
TZOFFSETTO:+0100
TZNAME:CET
END:STANDARD
BEGIN:DAYLIGHT
DTSTART:20260329T030000
TZOFFSETFROM:+0100
TZOFFSETTO:+0200
TZNAME:CEST
END:DAYLIGHT
END:VTIMEZONE
END:VCALENDAR